BEGIN:VCALENDAR
PRODID:-//eluceo/ical//2.0/EN
VERSION:2.0
CALSCALE:GREGORIAN
BEGIN:VEVENT
UID:69d13a28fafd0ca99249fa50b19167e3
DTSTAMP:20260423T075614Z
SUMMARY:Fisch auf den Grill bei Dörig und Brandl
DESCRIPTION:
URL:https://rc-zuerich-dietikon.ch/it/agenda/show/131442
DTSTART;TZID=Europe/Zurich:20210902T180000
DTEND;TZID=Europe/Zurich:20210902T213000
LOCATION:Auswärts gemäss Programm
CATEGORIES:Rotary
END:VEVENT
BEGIN:VTIMEZONE
TZID:Europe/Zurich
BEGIN:DAYLIGHT
DTSTART:20210902T180000
TZNAME:CEST
TZOFFSETTO:+0200
TZOFFSETFROM:+0200
END:DAYLIGHT
END:VTIMEZONE
END:VCALENDAR
