BEGIN:VCALENDAR
PRODID:-//eluceo/ical//2.0/EN
VERSION:2.0
CALSCALE:GREGORIAN
BEGIN:VEVENT
UID:a2c4d09697e5976e0d694cf13988183d
DTSTAMP:20260424T181411Z
SUMMARY:Breakfast@clouds
DESCRIPTION:Bitte um Anmeldung bei\nandreas@andreasschwaller.ch\n079 417 49
  43
URL:https://rc-zuerich-dietikon.ch/is/agenda/show/50399
DTSTART;TZID=Europe/Zurich:20150612T070000
DTEND;TZID=Europe/Zurich:20150612T080000
LOCATION:Limmat Tower\, Treffpunkt: Heimstrasse 8\, Dietikon
CATEGORIES:Rotary
END:VEVENT
BEGIN:VTIMEZONE
TZID:Europe/Zurich
BEGIN:DAYLIGHT
DTSTART:20150612T070000
TZNAME:CEST
TZOFFSETTO:+0200
TZOFFSETFROM:+0200
END:DAYLIGHT
END:VTIMEZONE
END:VCALENDAR
