BEGIN:VCALENDAR
PRODID:-//eluceo/ical//2.0/EN
VERSION:2.0
CALSCALE:GREGORIAN
BEGIN:VEVENT
UID:9da84bb908d76d59a4994302a0c82c89
DTSTAMP:20260421T224005Z
SUMMARY:Governor Besuch im Winzerhaus
DESCRIPTION:Site internet: http://www.winzerhaus.ch\nConférencier(s): Gove
 rnor Daniel Marbot zu Besuch10.30 Uhr Sitzung mit Vorstand11.45 Uhr Beginn
  Apéro
URL:https://rc-zuerich-dietikon.ch/fr/agenda/show/148151
DTSTART;TZID=Europe/Zurich:20220825T113000
DTEND;TZID=Europe/Zurich:20220825T140000
LOCATION:Rest. Winzerhaus Weiningen\, Haslernstrasse 28\, 8104 Weiningen ZH
CATEGORIES:Rotary
END:VEVENT
BEGIN:VTIMEZONE
TZID:Europe/Zurich
BEGIN:DAYLIGHT
DTSTART:20220825T113000
TZNAME:CEST
TZOFFSETTO:+0200
TZOFFSETFROM:+0200
END:DAYLIGHT
END:VTIMEZONE
END:VCALENDAR
