BEGIN:VCALENDAR
PRODID:-//eluceo/ical//2.0/EN
VERSION:2.0
CALSCALE:GREGORIAN
BEGIN:VEVENT
UID:a6c72b13b306341fe995370e79281584
DTSTAMP:20260422T003416Z
SUMMARY:Monats-Apéro bei Oliver
DESCRIPTION:Conférencier(s): Wo: OMIT \; Bernstrasse 90\, 8953 Dietikon
URL:https://rc-zuerich-dietikon.ch/fr/agenda/show/147056
DTSTART;TZID=Europe/Zurich:20220802T183000
DTEND;TZID=Europe/Zurich:20220802T220000
LOCATION:Auswärts gemäss Programm
CATEGORIES:Rotary
END:VEVENT
BEGIN:VTIMEZONE
TZID:Europe/Zurich
BEGIN:DAYLIGHT
DTSTART:20220802T183000
TZNAME:CEST
TZOFFSETTO:+0200
TZOFFSETFROM:+0200
END:DAYLIGHT
END:VTIMEZONE
END:VCALENDAR
