BEGIN:VCALENDAR
PRODID:-//eluceo/ical//2.0/EN
VERSION:2.0
CALSCALE:GREGORIAN
BEGIN:VEVENT
UID:96a0abe9514313cb63335752a50eff30
DTSTAMP:20260422T101400Z
SUMMARY:Vortragslunch mit Marcus Haegi\, Water Survival Box
DESCRIPTION:Site internet: http://www.winzerhaus.com
URL:https://rc-zuerich-dietikon.ch/fr/agenda/show/133828
DTSTART;TZID=Europe/Zurich:20211202T121500
DTEND;TZID=Europe/Zurich:20211202T140000
LOCATION:Rest. Winzerhaus Weiningen\, Haslernstrasse 28\, 8104 Weiningen ZH
CATEGORIES:Rotary
END:VEVENT
BEGIN:VTIMEZONE
TZID:Europe/Zurich
BEGIN:STANDARD
DTSTART:20211202T121500
TZNAME:CET
TZOFFSETTO:+0100
TZOFFSETFROM:+0100
END:STANDARD
END:VTIMEZONE
END:VCALENDAR
