BEGIN:VCALENDAR
PRODID:-//eluceo/ical//2.0/EN
VERSION:2.0
CALSCALE:GREGORIAN
BEGIN:VEVENT
UID:ddb5bf62b4b79f797300cd560b8cb65d
DTSTAMP:20260422T101842Z
SUMMARY:Vortragslunch mit Enzo Palazzo\, Max Weniger und Morris Gaube
DESCRIPTION:Site internet: http://www.winzerhaus.com
URL:https://rc-zuerich-dietikon.ch/fr/agenda/show/133824
DTSTART;TZID=Europe/Zurich:20211111T121500
DTEND;TZID=Europe/Zurich:20211111T140000
LOCATION:Rest. Winzerhaus Weiningen\, Haslernstrasse 28\, 8104 Weiningen ZH
CATEGORIES:Rotary
END:VEVENT
BEGIN:VTIMEZONE
TZID:Europe/Zurich
BEGIN:STANDARD
DTSTART:20211111T121500
TZNAME:CET
TZOFFSETTO:+0100
TZOFFSETFROM:+0100
END:STANDARD
END:VTIMEZONE
END:VCALENDAR
