BEGIN:VCALENDAR
PRODID:-//eluceo/ical//2.0/EN
VERSION:2.0
CALSCALE:GREGORIAN
BEGIN:VEVENT
UID:7c669ae4516fb51aae875125d3a000fd
DTSTAMP:20260422T135850Z
SUMMARY:Hands-on Projekt in Santa Maria di Calanca
DESCRIPTION:
URL:https://rc-zuerich-dietikon.ch/fr/agenda/show/133821
DTSTART;TZID=Europe/Zurich:20211022T180000
DTEND;TZID=Europe/Zurich:20211024T110000
LOCATION:Auswärts gemäss Programm
CATEGORIES:Rotary
END:VEVENT
BEGIN:VTIMEZONE
TZID:Europe/Zurich
BEGIN:DAYLIGHT
DTSTART:20211022T180000
TZNAME:CEST
TZOFFSETTO:+0200
TZOFFSETFROM:+0200
END:DAYLIGHT
END:VTIMEZONE
END:VCALENDAR
