BEGIN:VCALENDAR
PRODID:-//eluceo/ical//2.0/EN
VERSION:2.0
CALSCALE:GREGORIAN
BEGIN:VEVENT
UID:c84aa832372035edab8c52bcefc45922
DTSTAMP:20260423T115007Z
SUMMARY:Plauderlunch Rest. Winzerhaus Weiningen
DESCRIPTION:Site internet: http://www.winzerhaus.com
URL:https://rc-zuerich-dietikon.ch/fr/agenda/show/130328
DTSTART;TZID=Europe/Zurich:20210819T121500
DTEND;TZID=Europe/Zurich:20210819T140000
LOCATION:Rest. Winzerhaus Weiningen\, Haslernstrasse 28\, 8104 Weiningen ZH
CATEGORIES:Rotary
END:VEVENT
BEGIN:VTIMEZONE
TZID:Europe/Zurich
BEGIN:DAYLIGHT
DTSTART:20210819T121500
TZNAME:CEST
TZOFFSETTO:+0200
TZOFFSETFROM:+0200
END:DAYLIGHT
END:VTIMEZONE
END:VCALENDAR
