BEGIN:VCALENDAR
PRODID:-//eluceo/ical//2.0/EN
VERSION:2.0
CALSCALE:GREGORIAN
BEGIN:VEVENT
UID:836bc4a3f0132b7dec315ad724fe50c8
DTSTAMP:20260424T120133Z
SUMMARY:Gedenklunch Robert Wimmer
DESCRIPTION:
URL:https://rc-zuerich-dietikon.ch/de/agenda/show/56557
DTSTART;TZID=Europe/Zurich:20151112T121500
DTEND;TZID=Europe/Zurich:20151112T140000
LOCATION:Rest. Winzerhaus
CATEGORIES:Rotary
END:VEVENT
BEGIN:VTIMEZONE
TZID:Europe/Zurich
BEGIN:STANDARD
DTSTART:20151112T121500
TZNAME:CET
TZOFFSETTO:+0100
TZOFFSETFROM:+0100
END:STANDARD
END:VTIMEZONE
END:VCALENDAR
