BEGIN:VCALENDAR
PRODID:-//eluceo/ical//2.0/EN
VERSION:2.0
CALSCALE:GREGORIAN
BEGIN:VEVENT
UID:90b19ce6427c9e046ef0a7c5eeb6b938
DTSTAMP:20260424T115603Z
SUMMARY:Weihnachtsfeier
DESCRIPTION:
URL:https://rc-zuerich-dietikon.ch/de/agenda/show/56197
DTSTART;TZID=Europe/Zurich:20151203T180000
DTEND;TZID=Europe/Zurich:20151203T220000
LOCATION:Ref. Kirche Schlieren\, anschl. Winzerhaus
CATEGORIES:Rotary
END:VEVENT
BEGIN:VTIMEZONE
TZID:Europe/Zurich
BEGIN:STANDARD
DTSTART:20151203T180000
TZNAME:CET
TZOFFSETTO:+0100
TZOFFSETFROM:+0100
END:STANDARD
END:VTIMEZONE
END:VCALENDAR
